BEGIN:VCALENDAR
VERSION:2.0
PRODID:-//Programa de Detección de Cáncer de Colon y Recto de Barcelona - ECPv4.6.8//NONSGML v1.0//EN
CALSCALE:GREGORIAN
METHOD:PUBLISH
X-WR-CALNAME:Programa de Detección de Cáncer de Colon y Recto de Barcelona
X-ORIGINAL-URL:https://www.prevenciocolonbcn.org/es
X-WR-CALDESC:Events for Programa de Detección de Cáncer de Colon y Recto de Barcelona
BEGIN:VEVENT
DTSTART;VALUE=DATE:20180523
DTEND;VALUE=DATE:20181113
DTSTAMP:20260422T074328
CREATED:20180523T093354Z
LAST-MODIFIED:20180523T095057Z
UID:2516-1527033600-1542067199@www.prevenciocolonbcn.org
SUMMARY:Inici del Programa a Verdum (2a ronda)
DESCRIPTION:Aquest mes de maig s’inicia l’activitat del Programa a Verdum (8E). \nDes de mitjans del mes maig i fins a principis de novembre de 2018 es convida a tots els homes i dones de 50 a 69 anys que visquin a Verdum. Rebran una carta per a participar en el Programa. \nJuntament amb la carta d’invitació s’envia el llistat de farmàcies adherides al Programa en aquest barri\, a les quals es pot anar a recollir a la farmàcia més propera la prova i les instruccions (a sota trobareu l’enllaç al llistat en format PDF). La prova es realitza a casa de forma còmoda i senzilla i cal retornar-la a la farmàcia. \nUna vegada analitzades les proves es comunicaran els resultats mitjançant carta o trucada telefònica. \nPer la vostra salut\, participeu-hi! \n• Llistat de les farmàcies de Verdum \n
URL:https://www.prevenciocolonbcn.org/es/event/inicio-del-programa-en-verdum-2a-ronda/
END:VEVENT
END:VCALENDAR