BEGIN:VCALENDAR
VERSION:2.0
PRODID:-//Programa de Detección de Cáncer de Colon y Recto de Barcelona - ECPv4.6.8//NONSGML v1.0//EN
CALSCALE:GREGORIAN
METHOD:PUBLISH
X-WR-CALNAME:Programa de Detección de Cáncer de Colon y Recto de Barcelona
X-ORIGINAL-URL:https://www.prevenciocolonbcn.org/es
X-WR-CALDESC:Events for Programa de Detección de Cáncer de Colon y Recto de Barcelona
BEGIN:VEVENT
DTSTART;VALUE=DATE:20170923
DTEND;VALUE=DATE:20180220
DTSTAMP:20260422T135606
CREATED:20171124T110121Z
LAST-MODIFIED:20171214T132431Z
UID:1663-1506124800-1519084799@www.prevenciocolonbcn.org
SUMMARY:Inicio del Programa en Vallvidrera - Les Planes (4ª ronda)
DESCRIPTION:A mediados de septiembre de 2017 se inicia la actividad del Programa\, en 4ª Ronda\, en la ABS 5D Vallvidrera-Les Planes. \nDesde septiembre y hasta finales de noviembre del 2017 se invita a todos los hombres y mujeres de 50 a 69 años que viven en esta zona a participar en el Programa. \nSe enviará una carta de invitación junto con el listado de farmacias (se adjunta) adheridas al Programa en esta área para ir a recoger a la farmacia más próxima el kit y las instrucciones. \nLa prueba se realiza en casa de forma cómoda y sencilla y habrá que devolverla a la farmacia. \nUna vez analizada las muestra se comunicará el resultado mediante carta o llamada telefónica. \n¡Una gran oportunidad de prevenir y cuidar de su salud! \n• Listado de farmacies de Vallvidrera-Les Planes \n
URL:https://www.prevenciocolonbcn.org/es/event/inici-programa-vallvidrera-planes-4a-ronda/
END:VEVENT
END:VCALENDAR