BEGIN:VCALENDAR
VERSION:2.0
PRODID:-//Programa de Detección de Cáncer de Colon y Recto de Barcelona - ECPv4.6.8//NONSGML v1.0//EN
CALSCALE:GREGORIAN
METHOD:PUBLISH
X-WR-CALNAME:Programa de Detección de Cáncer de Colon y Recto de Barcelona
X-ORIGINAL-URL:https://www.prevenciocolonbcn.org/es
X-WR-CALDESC:Events for Programa de Detección de Cáncer de Colon y Recto de Barcelona
BEGIN:VEVENT
DTSTART;VALUE=DATE:20190108
DTEND;VALUE=DATE:20190707
DTSTAMP:20260422T012221
CREATED:20181205T101730Z
LAST-MODIFIED:20181205T101740Z
UID:2818-1546905600-1562457599@www.prevenciocolonbcn.org
SUMMARY:Inicio del Programa en Congrés (2ª ronda)
DESCRIPTION:Este mes de enero se inicia la actividad del Programa de detección precoz del cáncer de colon y recto en Congrés (9C). \nDesde principios de enero y hasta principios del mes de enerode 2019 se invita a todos los hombres y mujeres de 50 a 69 años que vivan en Congrés. Recibirán una carta para participar en el Programa. \nJunto con la carta de invitación se envía el listado de farmacias adheridas al Programa en este barrio\, a las que se puede ir a recoger a la farmacia más cercana la prueba y las instrucciones (abajo encontrará el enlace al listado en formato PDF). La prueba se realiza en casa de forma cómoda y sencilla y hay devolverla a la farmacia. \nUna vez analizadas las pruebas se comunicarán los resultados mediante carta o llamada telefónica. \n¡Por su salud\, participad! \n\nListado de las farmacias de Congrés\n\n
URL:https://www.prevenciocolonbcn.org/es/event/inici-del-programa-al-congres-2a-ronda/
END:VEVENT
END:VCALENDAR