BEGIN:VCALENDAR
VERSION:2.0
PRODID:-//Programa de Detección de Cáncer de Colon y Recto de Barcelona - ECPv4.6.8//NONSGML v1.0//EN
CALSCALE:GREGORIAN
METHOD:PUBLISH
X-WR-CALNAME:Programa de Detección de Cáncer de Colon y Recto de Barcelona
X-ORIGINAL-URL:https://www.prevenciocolonbcn.org/es
X-WR-CALDESC:Events for Programa de Detección de Cáncer de Colon y Recto de Barcelona
BEGIN:VEVENT
DTSTART;VALUE=DATE:20200204
DTEND;VALUE=DATE:20200723
DTSTAMP:20260421T221418
CREATED:20200203T133923Z
LAST-MODIFIED:20201013T074053Z
UID:3328-1580774400-1595462399@www.prevenciocolonbcn.org
SUMMARY:Inicio del Programa en el Besòs (6ª ronda)
DESCRIPTION:Este mes de febrero se inicia la actividad del Programa en  el Besòs (10D). \nDesde principios de febrero y hasta el mes de enero de 2021 se invita a todos los hombres y mujeres de 50 a 69 años que vivan en el Besòs. Recibirán una carta para participar en el Programa. \nJunto con la carta de invitación se envía el listado de farmacias adheridas al Programa en este barrio\, a las que se puede ir a recoger a la farmacia más cercana la prueba y las instrucciones (abajo encontrará el enlace al listado en formato PDF). La prueba se realiza en casa de forma cómoda y sencilla y hay devolverla a la farmacia. \nUna vez analizadas las pruebas se comunicarán los resultados mediante carta o llamada telefónica. \nPor su salud\, participad! \n\nListado de las farmacias del Besòs\n\n
URL:https://www.prevenciocolonbcn.org/es/event/inici-del-programa-al-besos-6a-ronda/
END:VEVENT
END:VCALENDAR