BEGIN:VCALENDAR
VERSION:2.0
PRODID:-//Programa de Detección de Cáncer de Colon y Recto de Barcelona - ECPv4.6.8//NONSGML v1.0//EN
CALSCALE:GREGORIAN
METHOD:PUBLISH
X-WR-CALNAME:Programa de Detección de Cáncer de Colon y Recto de Barcelona
X-ORIGINAL-URL:https://www.prevenciocolonbcn.org/es
X-WR-CALDESC:Events for Programa de Detección de Cáncer de Colon y Recto de Barcelona
BEGIN:VEVENT
DTSTART;VALUE=DATE:20180716
DTEND;VALUE=DATE:20181023
DTSTAMP:20260421T234753
CREATED:20180716T114620Z
LAST-MODIFIED:20180716T121814Z
UID:2586-1531699200-1540252799@www.prevenciocolonbcn.org
SUMMARY:Inicio del Programa en Vilapicina (2ª Ronda)
DESCRIPTION:A principios de Julio se inicia la actividad del Programa en Vilapiscina (8A). \nDesde principios de Julio y hasta finales de noviembre de 2018 se invita a todos los hombres y mujeres de 50 a 69 años que vivan en Vilapicina. Recibirán una carta para participar en el Programa. \nJunto con la carta de invitación se envía el listado de farmacias adheridas al Programa en este barrio\, a las que se puede ir a recoger a la farmacia más cercana la prueba y las instrucciones (abajo encontrará el enlace al listado en formato PDF). La prueba se realiza en casa de forma cómoda y sencilla y hay que devolverla a la farmacia. \nUna vez analizadas las pruebas se comunicarán los resultados mediante carta o llamada telefónica. \nPor su salud\, participad! \n\nListado de las farmacias de Vilapicina\n\n
URL:https://www.prevenciocolonbcn.org/es/event/inici-del-programa-a-vilapiscina-2a-ronda/
END:VEVENT
END:VCALENDAR