BEGIN:VCALENDAR
VERSION:2.0
PRODID:-//Programa de Detección de Cáncer de Colon y Recto de Barcelona - ECPv4.6.8//NONSGML v1.0//EN
CALSCALE:GREGORIAN
METHOD:PUBLISH
X-WR-CALNAME:Programa de Detección de Cáncer de Colon y Recto de Barcelona
X-ORIGINAL-URL:https://www.prevenciocolonbcn.org/es
X-WR-CALDESC:Events for Programa de Detección de Cáncer de Colon y Recto de Barcelona
BEGIN:VEVENT
DTSTART;TZID=UTC+0:20250826T000000
DTEND;TZID=UTC+0:20250826T000000
DTSTAMP:20260421T084603
CREATED:20250826T082636Z
LAST-MODIFIED:20251106T134023Z
UID:4838-1756166400-1756166400@www.prevenciocolonbcn.org
SUMMARY:Inici del Programa a Vila de Gràcia (5a ronda)
DESCRIPTION:Este mes de septiembre se inicia la actividad del Programa en Vila de Gràcia (6B). \nDesde principios de septiembre de 2025 y hasta principios de febrero de 2026 se invita a todos los hombres y mujeres de 50 a 69 años que vivan en Vila de Gràcia. Recibirán una carta para participar en el Programa. \nJunto con la carta de invitación se envía el listado de farmacias adheridas al Programa en este barrio\, a las que se puede ir a recoger a la farmacia más cercana la prueba y las instrucciones (abajo encontrará el enlace al listado en formato PDF). La prueba se realiza en casa de forma cómoda y sencilla y hay devolverla a la farmacia. \nUna vez analizadas las pruebas se comunicarán los resultados mediante carta o llamada telefónica. \nPor vuestra salud\, participad! \n\nListado de las farmacias de Vila de Gràcia\n\n
URL:https://www.prevenciocolonbcn.org/es/event/inici-del-programa-a-vila-de-gracia-5a-ronda/
END:VEVENT
END:VCALENDAR