BEGIN:VCALENDAR
VERSION:2.0
PRODID:-//Programa de Detección de Cáncer de Colon y Recto de Barcelona - ECPv4.6.8//NONSGML v1.0//EN
CALSCALE:GREGORIAN
METHOD:PUBLISH
X-WR-CALNAME:Programa de Detección de Cáncer de Colon y Recto de Barcelona
X-ORIGINAL-URL:https://www.prevenciocolonbcn.org/es
X-WR-CALDESC:Events for Programa de Detección de Cáncer de Colon y Recto de Barcelona
BEGIN:VEVENT
DTSTART;VALUE=DATE:20201209
DTEND;VALUE=DATE:20210524
DTSTAMP:20260422T023553
CREATED:20180702T133120Z
LAST-MODIFIED:20210216T113701Z
UID:2580-1607472000-1621814399@www.prevenciocolonbcn.org
SUMMARY:Inicio del Programa en Via Roma (6ª ronda)
DESCRIPTION:A principios de Diciembre 2020 se inicia la actividad del Programa en Via Roma (2B). \nDesde principios de Diciembre 2020 y hasta finales de Mayo de 2021 se invita a todos los hombres y mujeres de 50 a 69 años que vivan en Via Roma. Recibirán una carta para participar en el Programa. \nJunto con la carta de invitación se envía el listado de farmacias adheridas al Programa en este barrio\, a las que se puede ir a recoger a la farmacia más cercana la prueba y las instrucciones (abajo encontrará el enlace al listado en formato PDF). La prueba se realiza en casa de forma cómoda y sencilla y hay devolverla a la farmacia. \nUna vez analizadas las pruebas se comunicarán los resultados mediante carta o llamada telefónica. \nPor su salud\, participad! \n\nLlistat de farmàcies col·laboradores 2B_Via Roma\n\n
URL:https://www.prevenciocolonbcn.org/es/event/inici-del-programa-a-via-roma-5a-ronda/
END:VEVENT
END:VCALENDAR