BEGIN:VCALENDAR
VERSION:2.0
PRODID:-//Programa de Detección de Cáncer de Colon y Recto de Barcelona - ECPv4.6.8//NONSGML v1.0//EN
CALSCALE:GREGORIAN
METHOD:PUBLISH
X-WR-CALNAME:Programa de Detección de Cáncer de Colon y Recto de Barcelona
X-ORIGINAL-URL:https://www.prevenciocolonbcn.org/es
X-WR-CALDESC:Events for Programa de Detección de Cáncer de Colon y Recto de Barcelona
BEGIN:VEVENT
DTSTART;VALUE=DATE:20201130
DTEND;VALUE=DATE:20210516
DTSTAMP:20260422T030525
CREATED:20201203T135851Z
LAST-MODIFIED:20210119T103849Z
UID:3511-1606694400-1621123199@www.prevenciocolonbcn.org
SUMMARY:Inicio del Programa en Turó-Vilapicina (3ª ronda)
DESCRIPTION:Este mes de noviembre se inicia la actividad del Programa en Turó- Vilapicina (ABS 8C). \nDesde finales del mes de Noviembre y hasta mediados del mes de Mayo de 2021 se invita a todos los hombres y mujeres de 50 a 69 años que vivan a Turó-Vilapicina de Nou Barris en Barcelona. Recibirán una carta para participar en el Programa. \nJunto con la carta de invitación se envía el listado de farmacias adheridas al Programa en este barrio\, a las que se puede ir a recoger a la farmacia más cercana la prueba y las instrucciones (abajo encontrará el enlace al listado en formato PDF). La prueba se realiza en casa de forma cómoda y sencilla y hay devolverla a la farmacia. \nUna vez analizadas las pruebas se comunicarán los resultados mediante carta o llamada telefónica. \nPor su salud\, participad! \n • Listado de farmacias Turó- Vilapicina ABS 8C \n
URL:https://www.prevenciocolonbcn.org/es/event/inici-del-programa-a-turo-vilapicina-3a-ronda/
END:VEVENT
END:VCALENDAR