BEGIN:VCALENDAR
VERSION:2.0
PRODID:-//Programa de Detección de Cáncer de Colon y Recto de Barcelona - ECPv4.6.8//NONSGML v1.0//EN
CALSCALE:GREGORIAN
METHOD:PUBLISH
X-WR-CALNAME:Programa de Detección de Cáncer de Colon y Recto de Barcelona
X-ORIGINAL-URL:https://www.prevenciocolonbcn.org/es
X-WR-CALDESC:Events for Programa de Detección de Cáncer de Colon y Recto de Barcelona
BEGIN:VEVENT
DTSTART;VALUE=DATE:20180716
DTEND;VALUE=DATE:20181211
DTSTAMP:20260421T221345
CREATED:20180716T121657Z
LAST-MODIFIED:20181008T105255Z
UID:2592-1531699200-1544486399@www.prevenciocolonbcn.org
SUMMARY:Inicio del Programa en Turó de la Peira (2ª Ronda)
DESCRIPTION:A mediados de Julio se inicia la actividad del Programa en Turó de la Peira (8C). \nDesde mediados de Julio y hasta principios de Diciembre de 2018 se invita a todos los hombres y mujeres de 50 a 69 años que vivan en Turó de la Peira. Recibirán una carta para participar en el Programa. \nJunto con la carta de invitación se envía el listado de farmacias adheridas al Programa en este barrio\, a las que se puede ir a recoger a la farmacia más cercana la prueba y las instrucciones (abajo encontrará el enlace al listado en formato PDF). La prueba se realiza en casa de forma cómoda y sencilla y hay que devolverla a la farmacia. \nUna vez analizadas las pruebas se comunicarán los resultados mediante carta o llamada telefónica. \nPor su salud\, participad! \n\nListado de las farmacias de Turó de la Peira\n\n
URL:https://www.prevenciocolonbcn.org/es/event/inici-del-programa-a-turo-de-la-peira-2a-ronda/
END:VEVENT
END:VCALENDAR