BEGIN:VCALENDAR
VERSION:2.0
PRODID:-//Programa de Detección de Cáncer de Colon y Recto de Barcelona - ECPv4.6.8//NONSGML v1.0//EN
CALSCALE:GREGORIAN
METHOD:PUBLISH
X-WR-CALNAME:Programa de Detección de Cáncer de Colon y Recto de Barcelona
X-ORIGINAL-URL:https://www.prevenciocolonbcn.org/es
X-WR-CALDESC:Events for Programa de Detección de Cáncer de Colon y Recto de Barcelona
BEGIN:VEVENT
DTSTART;VALUE=DATE:20190618
DTEND;VALUE=DATE:20191204
DTSTAMP:20260422T042150
CREATED:20190617T103930Z
LAST-MODIFIED:20190617T104710Z
UID:3078-1560816000-1575417599@www.prevenciocolonbcn.org
SUMMARY:Inicio del Programa en Sant Adrià-2 (2ª ronda)
DESCRIPTION:Este mes de junio se inicia la actividad del Programa en Sant Adrià-2 (La Mina). \nDesde mediados de junio de 2019 y hasta principios del mes de diciembre de 2019 se invita a todos los hombres y mujeres de 50 a 69 años que vivan en La Mina. Recibirán una carta para participar en el Programa. \nJunto con la carta de invitación se envía el listado de farmacias adheridas al Programa en este barrio\, a las que se puede ir a recoger a la farmacia más cercana la prueba y las instrucciones (abajo encontrará el enlace al listado en formato PDF). La prueba se realiza en casa de forma cómoda y sencilla y hay devolverla a la farmacia. \nUna vez analizadas las pruebas se comunicarán los resultados mediante carta o llamada telefónica. \nPor su salud\, participad! \n\nListado de las farmacias de Sant Adrià-2 (La Mina)\n\n
URL:https://www.prevenciocolonbcn.org/es/event/inici-del-programa-a-sant-adria-2-2a-ronda/
END:VEVENT
END:VCALENDAR