BEGIN:VCALENDAR
VERSION:2.0
PRODID:-//Programa de Detección de Cáncer de Colon y Recto de Barcelona - ECPv4.6.8//NONSGML v1.0//EN
CALSCALE:GREGORIAN
METHOD:PUBLISH
X-WR-CALNAME:Programa de Detección de Cáncer de Colon y Recto de Barcelona
X-ORIGINAL-URL:https://www.prevenciocolonbcn.org/es
X-WR-CALDESC:Events for Programa de Detección de Cáncer de Colon y Recto de Barcelona
BEGIN:VEVENT
DTSTART;VALUE=DATE:20200225
DTEND;VALUE=DATE:20210101
DTSTAMP:20260421T203326
CREATED:20200225T123731Z
LAST-MODIFIED:20201022T120240Z
UID:3359-1582588800-1609459199@www.prevenciocolonbcn.org
SUMMARY:Inicio del Programa en Roquetes (3ª ronda)
DESCRIPTION:Este mes de febrero se inicia la actividad del Programa en Roquetes (8G)\, distrito de Nou Barris. \nDesde finales de febrero y hasta mediados del mes diciembre de 2020 se invita a todos los hombres y mujeres de 50 a 69 años que vivan en Roquetes (Nou Barris). Recibirán una carta para participar en el Programa. \nJunto con la carta de invitación se envía el listado de farmacias adheridas al Programa en este barrio\, a las que se puede ir a recoger a la farmacia más cercana la prueba y las instrucciones (abajo encontrará el enlace al listado en formato PDF). La prueba se realiza en casa de forma cómoda y sencilla y hay devolverla a la farmacia. \nUna vez analizadas las pruebas se comunicarán los resultados mediante carta o llamada telefónica. \nPor su salud\, participad! \n\nListado de las farmacias de Roquetes (Nou Barris)\n\n
URL:https://www.prevenciocolonbcn.org/es/event/inici-del-programa-a-roquetes-3a-ronda/
END:VEVENT
END:VCALENDAR