BEGIN:VCALENDAR
VERSION:2.0
PRODID:-//Programa de Detección de Cáncer de Colon y Recto de Barcelona - ECPv4.6.8//NONSGML v1.0//EN
CALSCALE:GREGORIAN
METHOD:PUBLISH
X-WR-CALNAME:Programa de Detección de Cáncer de Colon y Recto de Barcelona
X-ORIGINAL-URL:https://www.prevenciocolonbcn.org/es
X-WR-CALDESC:Events for Programa de Detección de Cáncer de Colon y Recto de Barcelona
BEGIN:VEVENT
DTSTART;VALUE=DATE:20180613
DTEND;VALUE=DATE:20181105
DTSTAMP:20260422T061132
CREATED:20180607T122118Z
LAST-MODIFIED:20180607T122118Z
UID:2544-1528848000-1541375999@www.prevenciocolonbcn.org
SUMMARY:Inicio del Programa en Rio de Janeiro (2a ronda)
DESCRIPTION:Este mes de Junio se inicia la actividad del Programa en Río de Janeiro (8B). \nDesde junio y hasta principios de noviembre de 2018 se invita a todos los hombres y mujeres de 50 a 69 años que vivan en Río de Janeiro. Recibirán una carta para participar en el Programa. \nJunto con la carta de invitación se envía el listado de farmacias adheridas al Programa en este barrio\, a las cuales se puede ir a recoger a la farmacia más cercana la prueba y las instrucciones (debajo encontraréis el enlace en el listado en formato PDF). La prueba se realiza en casa de forma cómoda y sencilla y hay que devolverla a la farmacia. \nUna vez analizadas las pruebas se comunicarán los resultados mediante carta o llamada telefónica. \nPor vuestra salud\, participad! \n\nListado de las farmacias de Rio de Janeiro\n\n
URL:https://www.prevenciocolonbcn.org/es/event/inici-del-programa-a-rio-de-janeiro-2a-ronda/
END:VEVENT
END:VCALENDAR