BEGIN:VCALENDAR
VERSION:2.0
PRODID:-//Programa de Detección de Cáncer de Colon y Recto de Barcelona - ECPv4.6.8//NONSGML v1.0//EN
CALSCALE:GREGORIAN
METHOD:PUBLISH
X-WR-CALNAME:Programa de Detección de Cáncer de Colon y Recto de Barcelona
X-ORIGINAL-URL:https://www.prevenciocolonbcn.org/es
X-WR-CALDESC:Events for Programa de Detección de Cáncer de Colon y Recto de Barcelona
BEGIN:VEVENT
DTSTART;VALUE=DATE:20191009
DTEND;VALUE=DATE:20200312
DTSTAMP:20260422T012250
CREATED:20190930T132632Z
LAST-MODIFIED:20191030T111113Z
UID:3188-1570579200-1583971199@www.prevenciocolonbcn.org
SUMMARY:Inicio del Programa en Raval Sur (5a ronda)
DESCRIPTION:Este mes de octubre se inicia la actividad del Programa en Raval Sur (1D). \nDesde mediados de octubre de 2019 y hasta mediados del mes de marzo de 2020 se invita a todos los hombres y mujeres de 50 a 69 años que vivan en Raval Sur. Recibirán una carta para participar en el Programa. \nJunto con la carta de invitación se envía el listado de farmacias adheridas al Programa en este barrio\, a las que se puede ir a recoger a la farmacia más cercana la prueba y las instrucciones (abajo encontrará el enlace al listado en formato PDF). La prueba se realiza en casa de forma cómoda y sencilla y hay devolverla a la farmacia. \nUna vez analizadas las pruebas se comunicarán los resultados mediante carta o llamada telefónica. \nPor su salud\, participad! \n\nListado de les farmacias de Raval Sur\n\n
URL:https://www.prevenciocolonbcn.org/es/event/inici-del-programa-a-raval-sud-5a-ronda/
END:VEVENT
END:VCALENDAR