BEGIN:VCALENDAR
VERSION:2.0
PRODID:-//Programa de Detección de Cáncer de Colon y Recto de Barcelona - ECPv4.6.8//NONSGML v1.0//EN
CALSCALE:GREGORIAN
METHOD:PUBLISH
X-WR-CALNAME:Programa de Detección de Cáncer de Colon y Recto de Barcelona
X-ORIGINAL-URL:https://www.prevenciocolonbcn.org/es
X-WR-CALDESC:Events for Programa de Detección de Cáncer de Colon y Recto de Barcelona
BEGIN:VEVENT
DTSTART;VALUE=DATE:20240525
DTEND;VALUE=DATE:20241210
DTSTAMP:20260421T141624
CREATED:20240611T105757Z
LAST-MODIFIED:20240612T095152Z
UID:4686-1716595200-1733788799@www.prevenciocolonbcn.org
SUMMARY:Inici del Programa a Prosperitat-Verdum (5a ronda)
DESCRIPTION:Este mes de mayo se inicia la actividad del Programa en Prosperitat-Verdun (8L).\n\nDesde principios de mayo y hasta mediados de octubre de 2024 se invita a todos los hombres y mujeres de 50 a 69 años que vivan en Prosperitat-Verdun. Recibirán una carta para participar en el Programa.\nJunto con la carta de invitación se envía el listado de farmacias adheridas al Programa en este barrio\, a las que se puede ir a recoger a la farmacia más cercana la prueba y las instrucciones (abajo encontrará el enlace al listado en formato PDF). La prueba se realiza en casa de forma cómoda y sencilla y hay devolverla a la farmacia.\n\nUna vez analizadas las pruebas se comunicarán los resultados mediante carta o llamada telefónica.\n\nPor vuestra salud\, participad!\n\n\nListado de les farmacias de Prosperitat-Verdun\n\n\n
URL:https://www.prevenciocolonbcn.org/es/event/inici-del-programa-a-prosperitat-verdun-5a-ronda/
END:VEVENT
END:VCALENDAR