BEGIN:VCALENDAR
VERSION:2.0
PRODID:-//Programa de Detección de Cáncer de Colon y Recto de Barcelona - ECPv4.6.8//NONSGML v1.0//EN
CALSCALE:GREGORIAN
METHOD:PUBLISH
X-WR-CALNAME:Programa de Detección de Cáncer de Colon y Recto de Barcelona
X-ORIGINAL-URL:https://www.prevenciocolonbcn.org/es
X-WR-CALDESC:Events for Programa de Detección de Cáncer de Colon y Recto de Barcelona
BEGIN:VEVENT
DTSTART;VALUE=DATE:20180302
DTEND;VALUE=DATE:20180911
DTSTAMP:20260422T135734
CREATED:20180305T110814Z
LAST-MODIFIED:20180308T122355Z
UID:2365-1519948800-1536623999@www.prevenciocolonbcn.org
SUMMARY:Inicio del Programa en Passeig de Sant Joan (2ª ronda)
DESCRIPTION:Este mes de marzo se inicia la actividad del Programa en Passeig de Sant Joan (2H). \nDesde principios de marzo y hasta mediados del mes de septiembre de 2018 se invita a todos los hombres y mujeres de 50 a 69 años que vivan en Passeig de Sant Joan. Recibirán una carta para participar en el Programa. \nJunto con la carta de invitación se envía el listado de farmacias adheridas al Programa en este barrio\, a las que se puede ir a recoger a la farmacia más cercana la prueba y las instrucciones (abajo encontrará el enlace al listado en formato PDF). La prueba se realiza en casa de forma cómoda y sencilla y hay devolverla a la farmacia. \nUna vez analizadas las pruebas se comunicarán los resultados mediante carta o llamada telefónica. \nPor su salud\, participad! \n\nListado de les farmacias de Passeig de Sant Joan\n\n
URL:https://www.prevenciocolonbcn.org/es/event/inici-del-programa-a-passeig-de-sant-joan-2a-ronda/
END:VEVENT
END:VCALENDAR