BEGIN:VCALENDAR
VERSION:2.0
PRODID:-//Programa de Detección de Cáncer de Colon y Recto de Barcelona - ECPv4.6.8//NONSGML v1.0//EN
CALSCALE:GREGORIAN
METHOD:PUBLISH
X-WR-CALNAME:Programa de Detección de Cáncer de Colon y Recto de Barcelona
X-ORIGINAL-URL:https://www.prevenciocolonbcn.org/es
X-WR-CALDESC:Events for Programa de Detección de Cáncer de Colon y Recto de Barcelona
BEGIN:VEVENT
DTSTART;VALUE=DATE:20191010
DTEND;VALUE=DATE:20200311
DTSTAMP:20260421T234814
CREATED:20191002T102057Z
LAST-MODIFIED:20191030T111647Z
UID:3192-1570665600-1583884799@www.prevenciocolonbcn.org
SUMMARY:Inicio del Programa en Lesseps (2a ronda)
DESCRIPTION:Este mes de octubre se inicia la actividad del Programa en Lesseps (6C). \nDesde principios de octubre de 2019 y hasta principios del mes de marzo de 2020 se invita a todos los hombres y mujeres de 50 a 69 años que vivan en el área de Lesseps. Recibirán una carta para participar en el Programa. \nJunto con la carta de invitación se envía el listado de farmacias adheridas al Programa en este barrio\, a las que se puede ir a recoger a la farmacia más cercana la prueba y las instrucciones (abajo encontrará el enlace al listado en formato PDF). La prueba se realiza en casa de forma cómoda y sencilla y deben devolverla a la farmacia. \nUna vez analizadas las pruebas se comunicarán los resultados mediante carta o llamada telefónica. \n¡Por su salud\, participad! \n\nListado de las farmacias de Lesseps\n\n
URL:https://www.prevenciocolonbcn.org/es/event/inici-del-programa-a-lesseps-2a-ronda/
END:VEVENT
END:VCALENDAR