BEGIN:VCALENDAR
VERSION:2.0
PRODID:-//Programa de Detección de Cáncer de Colon y Recto de Barcelona - ECPv4.6.8//NONSGML v1.0//EN
CALSCALE:GREGORIAN
METHOD:PUBLISH
X-WR-CALNAME:Programa de Detección de Cáncer de Colon y Recto de Barcelona
X-ORIGINAL-URL:https://www.prevenciocolonbcn.org/es
X-WR-CALDESC:Events for Programa de Detección de Cáncer de Colon y Recto de Barcelona
BEGIN:VEVENT
DTSTART;VALUE=DATE:20190506
DTEND;VALUE=DATE:20191120
DTSTAMP:20260421T190321
CREATED:20190430T124624Z
LAST-MODIFIED:20190425T124803Z
UID:2969-1557100800-1574207999@www.prevenciocolonbcn.org
SUMMARY:Inicio del Programa en Les Hortes-Poble Sec (5ª ronda)
DESCRIPTION:A principios de mayo se inicia la actividad del Programa en Les Hortes-Poble Sec (3A). \nDesde principios de mayo de 2019 y hasta mediados del mes de noviembre de 2019 se invita a todos los hombres y mujeres de 50 a 69 años que vivan en Les Hortes-Poble Sec. Recibirán una carta para participar en el Programa. \nJunto con la carta de invitación se envía el listado de farmacias adheridas al Programa en este barrio\, a las que se puede ir a recoger a la farmacia más cercana la prueba y las instrucciones (abajo encontrará el enlace al listado en formato PDF). La prueba se realiza en casa de forma cómoda y sencilla y hay devolverla a la farmacia. \nUna vez analizadas las pruebas se comunicarán los resultados mediante carta o llamada telefónica. \nPor su salud\, participad! \n\nLlistat de les farmàcies de Les Hortes-Poble Sec\n\n
URL:https://www.prevenciocolonbcn.org/es/event/inici-del-programa-a-les-hortes-poble-sec-5a-ronda/
END:VEVENT
END:VCALENDAR