BEGIN:VCALENDAR
VERSION:2.0
PRODID:-//Programa de Detección de Cáncer de Colon y Recto de Barcelona - ECPv4.6.8//NONSGML v1.0//EN
CALSCALE:GREGORIAN
METHOD:PUBLISH
X-WR-CALNAME:Programa de Detección de Cáncer de Colon y Recto de Barcelona
X-ORIGINAL-URL:https://www.prevenciocolonbcn.org/es
X-WR-CALDESC:Events for Programa de Detección de Cáncer de Colon y Recto de Barcelona
BEGIN:VEVENT
DTSTART;VALUE=DATE:20210217
DTEND;VALUE=DATE:20210911
DTSTAMP:20260421T221245
CREATED:20210209T094855Z
LAST-MODIFIED:20210209T094855Z
UID:3560-1613520000-1631318399@www.prevenciocolonbcn.org
SUMMARY:Inicio del Programa en la Sagrera (3ª ronda)
DESCRIPTION:Este mes de febrero se inicia la actividad del Programa en la Sagrera (9A). \nDesde mediados de febrero y hasta mediados de septiembre de 2021 se invita a todos los hombres y mujeres de 50 a 69 años que vivan en la Sagrera. Recibirán una carta para participar en el Programa. \nJunto con la carta de invitación se envía el listado de farmacias adheridas al Programa en este barrio\, a las que se puede ir a recoger a la farmacia más cercana la prueba y las instrucciones (abajo encontrará el enlace al listado en formato PDF). La prueba se realiza en casa de forma cómoda y sencilla y hay devolverla a la farmacia. \nUna vez analizadas las pruebas se comunicarán los resultados mediante carta o llamada telefónica. \nPor vuestra salud\, participad! \n\nListado de las farmacias de la Sagrera\n\n
URL:https://www.prevenciocolonbcn.org/es/event/inici-del-programa-a-la-sagrera-3a-ronda/
END:VEVENT
END:VCALENDAR