BEGIN:VCALENDAR
VERSION:2.0
PRODID:-//Programa de Detección de Cáncer de Colon y Recto de Barcelona - ECPv4.6.8//NONSGML v1.0//EN
CALSCALE:GREGORIAN
METHOD:PUBLISH
X-WR-CALNAME:Programa de Detección de Cáncer de Colon y Recto de Barcelona
X-ORIGINAL-URL:https://www.prevenciocolonbcn.org/es
X-WR-CALDESC:Events for Programa de Detección de Cáncer de Colon y Recto de Barcelona
BEGIN:VEVENT
DTSTART;VALUE=DATE:20180528
DTEND;VALUE=DATE:20181116
DTSTAMP:20260422T073044
CREATED:20180525T132923Z
LAST-MODIFIED:20180620T095313Z
UID:2531-1527465600-1542326399@www.prevenciocolonbcn.org
SUMMARY:Inicio del Programa en la Monumental (2ª ronda)
DESCRIPTION:Este mes de mayo se inicia la actividad del Programa en la Monumental (2J). \nDesde finales de mayo y hasta mediados del mes de noviembre de 2018 se invita a todos los hombres y mujeres de 50 a 69 años que vivan en la Monumental. Recibirán una carta para participar en el Programa. \nJunto con la carta de invitación se envía el listado de farmacias adheridas al Programa en este barrio\, a las que se puede ir a recoger a la farmacia más cercana la prueba y las instrucciones (abajo encontrará el enlace al listado en formato PDF). La prueba se realiza en casa de forma cómoda y sencilla y hay devolverla a la farmacia. \nUna vez analizadas las pruebas se comunicarán los resultados mediante carta o llamada telefónica. \nPor su salud\, participad! \n\nListado de las farmacias de la Monumental\n\n
URL:https://www.prevenciocolonbcn.org/es/event/inici-del-programa-a-la-monumental-2a-ronda/
END:VEVENT
END:VCALENDAR