BEGIN:VCALENDAR
VERSION:2.0
PRODID:-//Programa de Detección de Cáncer de Colon y Recto de Barcelona - ECPv4.6.8//NONSGML v1.0//EN
CALSCALE:GREGORIAN
METHOD:PUBLISH
X-WR-CALNAME:Programa de Detección de Cáncer de Colon y Recto de Barcelona
X-ORIGINAL-URL:https://www.prevenciocolonbcn.org/es
X-WR-CALDESC:Events for Programa de Detección de Cáncer de Colon y Recto de Barcelona
BEGIN:VEVENT
DTSTART;VALUE=DATE:20180314
DTEND;VALUE=DATE:20180831
DTSTAMP:20260424T092839
CREATED:20180312T112656Z
LAST-MODIFIED:20180312T114104Z
UID:2392-1520985600-1535673599@www.prevenciocolonbcn.org
SUMMARY:Inicio del Programa en la Guineueta (2ª Ronda)
DESCRIPTION:A mitad del mes de Marzo se inicia la actividad del Programa en la Guineueta (8F). \nDesde mitad de Marzo y hasta finales del mes de Agosto de 2018 se invita a todos los hombres y mujeres de 50 a 69 años que vivan en la Guineueta. Recibirán una carta para participar en el Programa. \nJunto con la carta de invitación se envía el listado de farmacias adheridas al Programa en este barrio\, a las que se puede ir a recoger a la farmacia más cercana la prueba y las instrucciones (abajo encontrará el enlace al listado en formato PDF). La prueba se realiza en casa de forma cómoda y sencilla y hay devolverla a la farmacia. \nUna vez analizadas las pruebas se comunicarán los resultados mediante carta o llamada telefónica. \nPor su salud\, participad! \n • Listado de farmacias Guineueta \n
URL:https://www.prevenciocolonbcn.org/es/event/inici-del-programa-a-la-guineueta-2a-ronda/
END:VEVENT
END:VCALENDAR