BEGIN:VCALENDAR
VERSION:2.0
PRODID:-//Programa de Detección de Cáncer de Colon y Recto de Barcelona - ECPv4.6.8//NONSGML v1.0//EN
CALSCALE:GREGORIAN
METHOD:PUBLISH
X-WR-CALNAME:Programa de Detección de Cáncer de Colon y Recto de Barcelona
X-ORIGINAL-URL:https://www.prevenciocolonbcn.org/es
X-WR-CALDESC:Events for Programa de Detección de Cáncer de Colon y Recto de Barcelona
BEGIN:VEVENT
DTSTART;VALUE=DATE:20200108
DTEND;VALUE=DATE:20200523
DTSTAMP:20260421T190218
CREATED:20200108T151733Z
LAST-MODIFIED:20200108T152245Z
UID:3249-1578441600-1590191999@www.prevenciocolonbcn.org
SUMMARY:Inicio del Programa en La Barceloneta (6ª ronda)
DESCRIPTION:Este mes de enero se inicia la actividad del Programa en La Barceloneta (1A). \nDesde principios de enero y hasta finales del mes de mayo de 2020 se invita a todos los hombres y mujeres de 50 a 69 años que vivan en La Barceloneta. Recibirán una carta para participar en el Programa. \nJunto con la carta de invitación se envía el listado de farmacias adheridas al Programa en este barrio\, a las que se puede ir a recoger a la farmacia más cercana la prueba y las instrucciones (abajo encontrará el enlace al listado en formato PDF). La prueba se realiza en casa de forma cómoda y sencilla y hay devolverla a la farmacia. \nUna vez analizadas las pruebas se comunicarán los resultados mediante carta o llamada telefónica. \nPor su salud\, participad! \n\nListado de les farmacias de La Barceloneta\n\n
URL:https://www.prevenciocolonbcn.org/es/event/inici-del-programa-a-la-barceloneta-6a-ronda/
END:VEVENT
END:VCALENDAR