BEGIN:VCALENDAR
VERSION:2.0
PRODID:-//Programa de Detección de Cáncer de Colon y Recto de Barcelona - ECPv4.6.8//NONSGML v1.0//EN
CALSCALE:GREGORIAN
METHOD:PUBLISH
X-WR-CALNAME:Programa de Detección de Cáncer de Colon y Recto de Barcelona
X-ORIGINAL-URL:https://www.prevenciocolonbcn.org/es
X-WR-CALDESC:Events for Programa de Detección de Cáncer de Colon y Recto de Barcelona
BEGIN:VEVENT
DTSTART;VALUE=DATE:20210118
DTEND;VALUE=DATE:20210705
DTSTAMP:20260421T214943
CREATED:20210119T103521Z
LAST-MODIFIED:20210119T103521Z
UID:3552-1610928000-1625443199@www.prevenciocolonbcn.org
SUMMARY:Inicio del Programa en Cotxeres (3ª ronda)
DESCRIPTION:Este mes de enero se inicia la actividad del Programa a Cotxeres (ABS 8J). \nDesde el mes de Enero y hasta principios del mes de Julio de 2021 se invita a todos los hombres y mujeres de 50 a 69 años que vivan en Cotxeres\, distrito de Nou Barris de Barcelona. Recibirán una carta para participar en el Programa. \nJunto con la carta de invitación se envía el listado de farmacias adheridas al Programa en este barrio\, a las que se puede ir a recoger a la farmacia más cercana la prueba y las instrucciones (abajo encontrará el enlace al listado en formato PDF). La prueba se realiza en casa de forma cómoda y sencilla y hay devolverla a la farmacia. \nUna vez analizadas las pruebas se comunicarán los resultados mediante carta o llamada telefónica. \nPor su salud\, participad! \n• Listado de farmacias Cotxeres ABS 8J \n
URL:https://www.prevenciocolonbcn.org/es/event/inici-del-programa-a-cotxeres-3a-ronda/
END:VEVENT
END:VCALENDAR