BEGIN:VCALENDAR
VERSION:2.0
PRODID:-//Programa de Detección de Cáncer de Colon y Recto de Barcelona - ECPv4.6.8//NONSGML v1.0//EN
CALSCALE:GREGORIAN
METHOD:PUBLISH
X-WR-CALNAME:Programa de Detección de Cáncer de Colon y Recto de Barcelona
X-ORIGINAL-URL:https://www.prevenciocolonbcn.org/es
X-WR-CALDESC:Events for Programa de Detección de Cáncer de Colon y Recto de Barcelona
BEGIN:VEVENT
DTSTART;VALUE=DATE:20180903
DTEND;VALUE=DATE:20190202
DTSTAMP:20260421T190045
CREATED:20180926T132256Z
LAST-MODIFIED:20180926T132422Z
UID:2626-1535932800-1549065599@www.prevenciocolonbcn.org
SUMMARY:Inicio del Programa en Cotxeres (2ª Ronda)
DESCRIPTION:A principios de Septiembre de 2018 se inicia la actividad del Programa en Cotxeres (8J). \nDesde principios del mes de Septiembre de 2018 y hasta principios de Febrero de 2019 se invita a todos los hombres y mujeres de 50 a 69 años que vivan en Cotxeres. Recibirán una carta para participar en el Programa. \nJunto con la carta de invitación se envía el listado de farmacias adheridas al Programa en este barrio\, a las que se puede ir a recoger a la farmacia más cercana la prueba y las instrucciones (abajo encontrará el enlace al listado en formato PDF). La prueba se realiza en casa de forma cómoda y sencilla y hay que devolverla a la farmacia. \nUna vez analizadas las pruebas se comunicarán los resultados mediante carta o llamada telefónica. \nPor su salud\, participad! \n\nListado de las farmacias de Cotxeres\n\n
URL:https://www.prevenciocolonbcn.org/es/event/inici-del-programa-a-cotxeres-2a-ronda/
END:VEVENT
END:VCALENDAR