BEGIN:VCALENDAR
VERSION:2.0
PRODID:-//Programa de Detección de Cáncer de Colon y Recto de Barcelona - ECPv4.6.8//NONSGML v1.0//EN
CALSCALE:GREGORIAN
METHOD:PUBLISH
X-WR-CALNAME:Programa de Detección de Cáncer de Colon y Recto de Barcelona
X-ORIGINAL-URL:https://www.prevenciocolonbcn.org/es
X-WR-CALDESC:Events for Programa de Detección de Cáncer de Colon y Recto de Barcelona
BEGIN:VEVENT
DTSTART;VALUE=DATE:20200107
DTEND;VALUE=DATE:20201101
DTSTAMP:20260421T172823
CREATED:20200120T122657Z
LAST-MODIFIED:20201022T120906Z
UID:3264-1578355200-1604188799@www.prevenciocolonbcn.org
SUMMARY:Inicio del Programa en Ciudad Meridiana (3ª ronda)
DESCRIPTION:A principios de enero de 2020 se inicia la actividad del Programa en Ciudad Meridiana (8H). \nDesde principios de enero de 2020 y hasta principios de octubre de 2020 se invita a todos los hombres y mujeres de 50 a 69 años que vivan en Ciudad Meridiana. Recibirán una carta para participar en el Programa. \nJunto con la carta de invitación se envía el listado de farmacias adheridas al Programa en este barrio\, a las que se puede ir a recoger a la farmacia más cercana la prueba y las instrucciones (abajo encontrará el enlace al listado en formato PDF). La prueba se realiza en casa de forma cómoda y sencilla y hay devolverla a la farmacia. \nUna vez analizadas las pruebas se comunicarán los resultados mediante carta o llamada telefónica. \nPor su salud\, participad! \n\nListado de Farmacias de Ciudad Meridiana 2020\n\n
URL:https://www.prevenciocolonbcn.org/es/event/inici-del-programa-a-ciutat-meridiana-3a-ronda/
END:VEVENT
END:VCALENDAR