BEGIN:VCALENDAR
VERSION:2.0
PRODID:-//Programa de Detección de Cáncer de Colon y Recto de Barcelona - ECPv4.6.8//NONSGML v1.0//EN
CALSCALE:GREGORIAN
METHOD:PUBLISH
X-WR-CALNAME:Programa de Detección de Cáncer de Colon y Recto de Barcelona
X-ORIGINAL-URL:https://www.prevenciocolonbcn.org/es
X-WR-CALDESC:Events for Programa de Detección de Cáncer de Colon y Recto de Barcelona
BEGIN:VEVENT
DTSTART;VALUE=DATE:20250729
DTEND;VALUE=DATE:20260128
DTSTAMP:20260421T084422
CREATED:20250804T123035Z
LAST-MODIFIED:20250804T123035Z
UID:4834-1753747200-1769558399@www.prevenciocolonbcn.org
SUMMARY:Inici del Programa a Casc Antic (8a ronda)
DESCRIPTION:Este mes de julio se inicia la actividad del Programa en Casc Antic. \nDesde finales de julio de 2025 y hasta finales de enero de 2026 se invita a todos los hombres y mujeres de 50 a 69 años que vivan en Casc Antic. Recibirán una carta para participar en el Programa. \nJunto con la carta de invitación se envía el listado de farmacias adheridas al Programa en este barrio\, a las que se puede ir a recoger a la farmacia más cercana la prueba y las instrucciones (abajo encontrará el enlace al listado en formato PDF). La prueba se realiza en casa de forma cómoda y sencilla y hay devolverla a la farmacia. \nUna vez analizadas las pruebas se comunicarán los resultados mediante carta o llamada telefónica. \n¡Por vuestra salud\, participad! \n\nListado de las farmacias de Casc Antic\n\n
URL:https://www.prevenciocolonbcn.org/es/event/inici-del-programa-a-casc-antic-8a-ronda/
END:VEVENT
END:VCALENDAR