BEGIN:VCALENDAR
VERSION:2.0
PRODID:-//Programa de Detección de Cáncer de Colon y Recto de Barcelona - ECPv4.6.8//NONSGML v1.0//EN
CALSCALE:GREGORIAN
METHOD:PUBLISH
X-WR-CALNAME:Programa de Detección de Cáncer de Colon y Recto de Barcelona
X-ORIGINAL-URL:https://www.prevenciocolonbcn.org/es
X-WR-CALDESC:Events for Programa de Detección de Cáncer de Colon y Recto de Barcelona
BEGIN:VEVENT
DTSTART;VALUE=DATE:20190712
DTEND;VALUE=DATE:20200117
DTSTAMP:20260422T060949
CREATED:20190702T094500Z
LAST-MODIFIED:20190702T094500Z
UID:3094-1562889600-1579219199@www.prevenciocolonbcn.org
SUMMARY:Inicio del Programa en Casc Antic (5ª ronda)
DESCRIPTION:Este mes de julio se inicia la actividad del Programa en Casc Antic (1B). \nDesde mediados de julio de 2019 y hasta mediados del mes de enero de 2020 se invita a todos los hombres y mujeres de 50 a 69 años que vivan en Casc Antic. Recibirán una carta para participar en el Programa. \nJunto con la carta de invitación se envía el listado de farmacias adheridas al Programa en este barrio\, a las que se puede ir a recoger a la farmacia más cercana la prueba y las instrucciones (abajo encontrará el enlace al listado en formato PDF). La prueba se realiza en casa de forma cómoda y sencilla y hay devolverla a la farmacia. \nUna vez analizadas las pruebas se comunicarán los resultados mediante carta o llamada telefónica. \nPor su salud\, participad! \n\nListado de les farmacias de Casc Antic\n\n
URL:https://www.prevenciocolonbcn.org/es/event/inici-del-programa-a-casc-antic-5a-ronda/
END:VEVENT
END:VCALENDAR