BEGIN:VCALENDAR
VERSION:2.0
PRODID:-//Programa de Detección de Cáncer de Colon y Recto de Barcelona - ECPv4.6.8//NONSGML v1.0//EN
CALSCALE:GREGORIAN
METHOD:PUBLISH
X-WR-CALNAME:Programa de Detección de Cáncer de Colon y Recto de Barcelona
X-ORIGINAL-URL:https://www.prevenciocolonbcn.org/es
X-WR-CALDESC:Events for Programa de Detección de Cáncer de Colon y Recto de Barcelona
BEGIN:VEVENT
DTSTART;VALUE=DATE:20180118
DTEND;VALUE=DATE:20180628
DTSTAMP:20260422T120457
CREATED:20180122T151942Z
LAST-MODIFIED:20180305T110858Z
UID:1978-1516233600-1530143999@www.prevenciocolonbcn.org
SUMMARY:Inicio del Programa en Camp de l'Arpa (2ª ronda)
DESCRIPTION:Este mes de diciembre se inicia la actividad del Programa en Camp de l’Arpa (10F). \nDesde mediados de enero y hasta finales del mes de junio de 2018 se invita a todos los hombres y mujeres de 50 a 69 años que vivan en Camp de l’Arpa. Recibirán una carta para participar en el Programa. \nJunto con la carta de invitación se envía el listado de farmacias adheridas al Programa en este barrio\, a las que se puede ir a recoger a la farmacia más cercana la prueba y las instrucciones (abajo encontrará el enlace al listado en formato PDF). La prueba se realiza en casa de forma cómoda y sencilla y hay devolverla a la farmacia. \nUna vez analizadas las pruebas se comunicarán los resultados mediante carta o llamada telefónica. \nPor su salud\, participad! \n\nListado de las farmacias de Camp de l’Arpa\n\n
URL:https://www.prevenciocolonbcn.org/es/event/inici-del-programa-a-camp-de-larpa-2a-ronda/
END:VEVENT
END:VCALENDAR