BEGIN:VCALENDAR
VERSION:2.0
PRODID:-//Programa de Detección de Cáncer de Colon y Recto de Barcelona - ECPv4.6.8//NONSGML v1.0//EN
CALSCALE:GREGORIAN
METHOD:PUBLISH
X-WR-CALNAME:Programa de Detección de Cáncer de Colon y Recto de Barcelona
X-ORIGINAL-URL:https://www.prevenciocolonbcn.org/es
X-WR-CALDESC:Events for Programa de Detección de Cáncer de Colon y Recto de Barcelona
BEGIN:VEVENT
DTSTART;VALUE=DATE:20200217
DTEND;VALUE=DATE:20201201
DTSTAMP:20260421T221455
CREATED:20180214T111123Z
LAST-MODIFIED:20201028T103134Z
UID:2324-1581897600-1606780799@www.prevenciocolonbcn.org
SUMMARY:Inicio del Programa en Montnegre-Corts-Pedralbes (6ª ronda)
DESCRIPTION:A mitad de febrero se inicia la actividad del Programa en Montnegre-Corts-Pedralbes (4B). \nDesde mitad de Febrero y hasta finales de noviembre de 2020 se invita a todos los hombres y mujeres de 50 a 69 años que vivan en Montnegre-Corts-Pedralbes. Recibirán una carta para participar en el Programa. \nJunto con la carta de invitación se envía el listado de farmacias adheridas al Programa en este barrio\, a las que se puede ir a recoger a la farmacia más cercana la prueba y las instrucciones (abajo encontrará el enlace al listado en formato PDF). La prueba se realiza en casa de forma cómoda y sencilla y hay devolverla a la farmacia. \nUna vez analizadas las pruebas se comunicarán los resultados mediante carta o llamada telefónica. \nPor su salud\, participad! \n\nListado de farmacias Montnegre-Corts-Pedralbes\n\n
URL:https://www.prevenciocolonbcn.org/es/event/espanol-inicio-del-programa-a-montnegre-corts-pedralbes-5a-ronda/
END:VEVENT
END:VCALENDAR