BEGIN:VCALENDAR
VERSION:2.0
PRODID:-//Programa de Detección de Cáncer de Colon y Recto de Barcelona - ECPv4.6.8//NONSGML v1.0//EN
CALSCALE:GREGORIAN
METHOD:PUBLISH
X-WR-CALNAME:Programa de Detección de Cáncer de Colon y Recto de Barcelona
X-ORIGINAL-URL:https://www.prevenciocolonbcn.org/es
X-WR-CALDESC:Events for Programa de Detección de Cáncer de Colon y Recto de Barcelona
BEGIN:VEVENT
DTSTART;VALUE=DATE:20171102
DTEND;VALUE=DATE:20180403
DTSTAMP:20260422T135516
CREATED:20170706T073213Z
LAST-MODIFIED:20171214T135438Z
UID:1014-1509580800-1522713599@www.prevenciocolonbcn.org
SUMMARY:Inicio del Programa a Raval Nord (4ª ronda)
DESCRIPTION:Este mes de noviembre se inicia la actividad del Programa en Raval Nord. \nDesde principios del mes de noviembre y hasta prncipios de abril de 2018 se invita a todos los hombres y mujeres de 50 a 69 años que viven en esta zona a participar en el Programa. \nSe enviará una carta de Invitación junto con el listado de farmacias adheridas al Programa en esta área (se adjunta listado)\, para ir a recoger a la farmacia más próxima el kit y las instrucciones. La prueba se realiza en casa de forma cómoda y sencilla y será necesario devolverla a la farmacia. \nUna vez analizadas las muestras se comunicaran los resultados mediante carta o llamada telefónica. \n¡Por vuestra salud\, participad! \n\nLlistat de les farmàcies del Raval Nord\n\n
URL:https://www.prevenciocolonbcn.org/es/event/cap-lluis-saye/
END:VEVENT
END:VCALENDAR