BEGIN:VCALENDAR
VERSION:2.0
PRODID:-//Programa de Detecció de Càncer de Còlon i Recte de Barcelona - ECPv4.6.8//NONSGML v1.0//EN
CALSCALE:GREGORIAN
METHOD:PUBLISH
X-WR-CALNAME:Programa de Detecció de Càncer de Còlon i Recte de Barcelona
X-ORIGINAL-URL:https://www.prevenciocolonbcn.org/ca
X-WR-CALDESC:Events for Programa de Detecció de Càncer de Còlon i Recte de Barcelona
BEGIN:VEVENT
DTSTART;VALUE=DATE:20170912
DTEND;VALUE=DATE:20180127
DTSTAMP:20260422T142610
CREATED:20170710T071304Z
LAST-MODIFIED:20171214T132933Z
UID:1027-1505174400-1517011199@www.prevenciocolonbcn.org
SUMMARY:Inici del Programa a Vila de Gràcia (1a ronda)
DESCRIPTION:Aquest mes de setembre s’inicia l’activitat del Programa a Vila de Gràcia (6B). \nDes de mitjans del mes de setembre de 2017 i fins a finals de desembre de 2017 es convida a tots els homes i dones de 50 a 69 anys que viuen en aquesta zona a participar en el Programa. \nS’enviarà una carta d’invitació juntament amb el llistat de farmàcies adherides al Programa en aquesta àrea (s’adjunta llistat)\, per anar a recollir a la farmàcia més propera el kit i les instruccions. La prova es realitza a casa de forma còmoda i senzilla i caldrà retornar-la a la farmàcia. \nUna vegada analitzades les mostres es comunicaran els resultats mitjançant carta o trucada telefònica. \nPer la vostra salut\, participeu-hi! \n• Llistat de farmàcies de Vila de Gràcia \n
URL:https://www.prevenciocolonbcn.org/ca/event/vila-de-gracia/
END:VEVENT
END:VCALENDAR