BEGIN:VCALENDAR
VERSION:2.0
PRODID:-//Programa de Detecció de Càncer de Còlon i Recte de Barcelona - ECPv4.6.8//NONSGML v1.0//EN
CALSCALE:GREGORIAN
METHOD:PUBLISH
X-WR-CALNAME:Programa de Detecció de Càncer de Còlon i Recte de Barcelona
X-ORIGINAL-URL:https://www.prevenciocolonbcn.org/ca
X-WR-CALDESC:Events for Programa de Detecció de Càncer de Còlon i Recte de Barcelona
BEGIN:VEVENT
DTSTART;VALUE=DATE:20180523
DTEND;VALUE=DATE:20181113
DTSTAMP:20260422T065330
CREATED:20180523T093354Z
LAST-MODIFIED:20180523T095057Z
UID:2516-1527033600-1542067199@www.prevenciocolonbcn.org
SUMMARY:Inicio del Programa en Verdum (2ª Ronda)
DESCRIPTION:A mitad del mes de Mayo se inicia la actividad del Programa en Vedum (8E). \nDesde mitad de Mayo y hasta principios del mes de Noviembre de 2018 se invita a todos los hombres y mujeres de 50 a 69 años que vivan en Verdum. Recibirán una carta para participar en el Programa. \nJunto con la carta de invitación se envía el listado de farmacias adheridas al Programa en este barrio\, a las que se puede ir a recoger a la farmacia más cercana la prueba y las instrucciones (abajo encontrará el enlace al listado en formato PDF). La prueba se realiza en casa de forma cómoda y sencilla y hay devolverla a la farmacia. \nUna vez analizadas las pruebas se comunicarán los resultados mediante carta o llamada telefónica. \nPor su salud\, participad! \n• Listado de farmacias Verdum \n
URL:https://www.prevenciocolonbcn.org/ca/event/inicio-del-programa-en-verdum-2a-ronda/
END:VEVENT
END:VCALENDAR