BEGIN:VCALENDAR
VERSION:2.0
PRODID:-//Programa de Detecció de Càncer de Còlon i Recte de Barcelona - ECPv4.6.8//NONSGML v1.0//EN
CALSCALE:GREGORIAN
METHOD:PUBLISH
X-WR-CALNAME:Programa de Detecció de Càncer de Còlon i Recte de Barcelona
X-ORIGINAL-URL:https://www.prevenciocolonbcn.org/ca
X-WR-CALDESC:Events for Programa de Detecció de Càncer de Còlon i Recte de Barcelona
BEGIN:VEVENT
DTSTART;VALUE=DATE:20201209
DTEND;VALUE=DATE:20210524
DTSTAMP:20260422T010748
CREATED:20180702T133120Z
LAST-MODIFIED:20210216T113701Z
UID:2580-1607472000-1621814399@www.prevenciocolonbcn.org
SUMMARY:Inici del Programa a Via Roma (6a ronda)
DESCRIPTION:A principis de desembre 2020 s’inicia l’activitat del Programa a Via Roma (2B). \nDes de principis del mes de desembre 2020 i fins a finals de maig de 2021 es convida a tots els homes i dones de 50 a 69 anys que visquin a Via Roma. Rebran una carta per a participar en el Programa. \nJuntament amb la carta d’invitació s’envia el llistat de farmàcies adherides al Programa en aquest barri\, a les quals es pot anar a recollir a la farmàcia més propera la prova i les instruccions (a sota trobareu l’enllaç al llistat en format PDF). La prova es realitza a casa de forma còmoda i senzilla i cal retornar-la a la farmàcia. \nUna vegada analitzades les proves es comunicaran els resultats mitjançant carta o trucada telefònica. \nPer la vostra salut\, participeu-hi! \n\nLlistat de farmàcies col·laboradores 2B_Via Roma\n\n
URL:https://www.prevenciocolonbcn.org/ca/event/inici-del-programa-a-via-roma-5a-ronda/
END:VEVENT
END:VCALENDAR