BEGIN:VCALENDAR
VERSION:2.0
PRODID:-//Programa de Detecció de Càncer de Còlon i Recte de Barcelona - ECPv4.6.8//NONSGML v1.0//EN
CALSCALE:GREGORIAN
METHOD:PUBLISH
X-WR-CALNAME:Programa de Detecció de Càncer de Còlon i Recte de Barcelona
X-ORIGINAL-URL:https://www.prevenciocolonbcn.org/ca
X-WR-CALDESC:Events for Programa de Detecció de Càncer de Còlon i Recte de Barcelona
BEGIN:VEVENT
DTSTART;VALUE=DATE:20201130
DTEND;VALUE=DATE:20210516
DTSTAMP:20260422T013447
CREATED:20201203T135851Z
LAST-MODIFIED:20210119T103849Z
UID:3511-1606694400-1621123199@www.prevenciocolonbcn.org
SUMMARY:Inici del Programa a Turó-Vilapicina (3a ronda)
DESCRIPTION:Aquest mes de novembre s’inicia l’activitat del Programa a Turó – Vilapicina (ABS 8C). \nDes de finals del mes de novembre i fins a mitjans del mes de maig de 2021 es convida a tots els homes i dones de 50 a 69 anys que visquin a Turó-Vilapicina de Nou Barris a Barcelona. Rebran una carta per a participar en el Programa. \nJuntament amb la carta d’invitació s’envia el llistat de farmàcies adherides al Programa en aquest barri\, a les quals es pot anar a recollir a la farmàcia més propera la prova i les instruccions (a sota trobareu l’enllaç al llistat en format PDF). La prova es realitza a casa de forma còmoda i senzilla i cal retornar-la a la farmàcia. \nUna vegada analitzades les proves es comunicaran els resultats mitjançant carta o trucada telefònica. \nPer la vostra salut\, participeu-hi! \n • Llistat de farmàcies Turó- Vilapicina ABS 8C \n
URL:https://www.prevenciocolonbcn.org/ca/event/inici-del-programa-a-turo-vilapicina-3a-ronda/
END:VEVENT
END:VCALENDAR