BEGIN:VCALENDAR
VERSION:2.0
PRODID:-//Programa de Detecció de Càncer de Còlon i Recte de Barcelona - ECPv4.6.8//NONSGML v1.0//EN
CALSCALE:GREGORIAN
METHOD:PUBLISH
X-WR-CALNAME:Programa de Detecció de Càncer de Còlon i Recte de Barcelona
X-ORIGINAL-URL:https://www.prevenciocolonbcn.org/ca
X-WR-CALDESC:Events for Programa de Detecció de Càncer de Còlon i Recte de Barcelona
BEGIN:VEVENT
DTSTART;VALUE=DATE:20190212
DTEND;VALUE=DATE:20190714
DTSTAMP:20260421T203239
CREATED:20190404T113156Z
LAST-MODIFIED:20190425T095737Z
UID:2906-1549929600-1563062399@www.prevenciocolonbcn.org
SUMMARY:Inici del Programa a Sant Rafael (2a ronda)
DESCRIPTION:Aquest mes de febrer s’inicia l’activitat del Programa en Sant Rafael (7E). \nDes de mitjan febrer de 2019 i fins a finals del mes de juliol de 2019 es convida a tots els homes i dones de 50 a 69 anys que visquin en Sant Rafael (7E). Rebran una carta per a participar en el Programa. \nJuntament amb la carta d’invitació s’envia el llistat de farmàcies adherides al Programa en aquest barri\, a les quals es pot anar a recollir a la farmàcia més pròxima la prova i les instruccions (a baix trobarà l’enllaç al llistat en format PDF). La prova es realitza a casa de forma còmoda i senzilla i hi ha retornar-la a la farmàcia. \nUna vegada analitzades les proves es comunicaran els resultats mitjançant carta o trucada telefònica. \nPer la seva salut\, participeu! \nLlistat de les farmàcies de Sant Rafael \n
URL:https://www.prevenciocolonbcn.org/ca/event/inici-del-programa-a-sant-rafael-2a-ronda/
END:VEVENT
END:VCALENDAR