BEGIN:VCALENDAR
VERSION:2.0
PRODID:-//Programa de Detecció de Càncer de Còlon i Recte de Barcelona - ECPv4.6.8//NONSGML v1.0//EN
CALSCALE:GREGORIAN
METHOD:PUBLISH
X-WR-CALNAME:Programa de Detecció de Càncer de Còlon i Recte de Barcelona
X-ORIGINAL-URL:https://www.prevenciocolonbcn.org/ca
X-WR-CALDESC:Events for Programa de Detecció de Càncer de Còlon i Recte de Barcelona
BEGIN:VEVENT
DTSTART;VALUE=DATE:20210315
DTEND;VALUE=DATE:20210904
DTSTAMP:20260421T190230
CREATED:20181105T082605Z
LAST-MODIFIED:20210413T084311Z
UID:2701-1615766400-1630713599@www.prevenciocolonbcn.org
SUMMARY:Inici del Programa a Numància (6a ronda)
DESCRIPTION:A mitjans de març s’inicia l’activitat del Programa a Numància (3G). \nDes de mitjans de març i fins a principis de setembre de 2021 es convida a tots els homes i dones de 50 a 69 anys que visquin a Numància. Rebran una carta per a participar en el Programa. \nJuntament amb la carta d’invitació s’envia el llistat de farmàcies adherides al Programa en aquest barri\, a les quals es pot anar a recollir a la farmàcia més propera la prova i les instruccions (a sota trobareu l’enllaç al llistat en format PDF). La prova es realitza a casa de forma còmoda i senzilla i cal retornar-la a la farmàcia. \nUna vegada analitzades les proves es comunicaran els resultats mitjançant carta o trucada telefònica. \nPer la vostra salut\, participeu-hi! \n\nFarmàcies Col·laboradores Numància\n\n
URL:https://www.prevenciocolonbcn.org/ca/event/inici-del-programa-a-numancia-5a-ronda/
END:VEVENT
END:VCALENDAR