BEGIN:VCALENDAR
VERSION:2.0
PRODID:-//Programa de Detecció de Càncer de Còlon i Recte de Barcelona - ECPv4.6.8//NONSGML v1.0//EN
CALSCALE:GREGORIAN
METHOD:PUBLISH
X-WR-CALNAME:Programa de Detecció de Càncer de Còlon i Recte de Barcelona
X-ORIGINAL-URL:https://www.prevenciocolonbcn.org/ca
X-WR-CALDESC:Events for Programa de Detecció de Càncer de Còlon i Recte de Barcelona
BEGIN:VEVENT
DTSTART;VALUE=DATE:20200831
DTEND;VALUE=DATE:20210201
DTSTAMP:20260421T172846
CREATED:20200210T133842Z
LAST-MODIFIED:20201028T111151Z
UID:3336-1598832000-1612137599@www.prevenciocolonbcn.org
SUMMARY:Inici del Programa a Montnegre (6a ronda)
DESCRIPTION:A principis de setembre s’inicia l’activitat del Programa a Montnegre  (4A). \nDes de principis de setembre i fins a principis de gener de 2021 es convida tots els homes i dones de 50 a 69 anys que visquin a Montnegre. Rebran una carta per participar en el Programa. \nJuntament amb la carta d’invitació s’envia el llistat de farmàcies adherides al Programa en aquest barri\, a les quals es pot anar a recollir a la farmàcia més propera la prova i les instruccions (a sota trobareu l’enllaç al llistat en format PDF). La prova es realitza a casa de forma còmoda i senzilla i cal retornar-la a la farmàcia. \nUna vegada analitzades les proves es comunicaran els resultats mitjançant carta o trucada telefònica. \nPer la vostra salut\, participeu-hi! \n\nLlista de farmàcies de Montnegre\n\n
URL:https://www.prevenciocolonbcn.org/ca/event/inici-del-programa-a-montnegre-les-corts-pedralbes-6a-ronda/
END:VEVENT
END:VCALENDAR