BEGIN:VCALENDAR
VERSION:2.0
PRODID:-//Programa de Detecció de Càncer de Còlon i Recte de Barcelona - ECPv4.6.8//NONSGML v1.0//EN
CALSCALE:GREGORIAN
METHOD:PUBLISH
X-WR-CALNAME:Programa de Detecció de Càncer de Còlon i Recte de Barcelona
X-ORIGINAL-URL:https://www.prevenciocolonbcn.org/ca
X-WR-CALDESC:Events for Programa de Detecció de Càncer de Còlon i Recte de Barcelona
BEGIN:VEVENT
DTSTART;VALUE=DATE:20190401
DTEND;VALUE=DATE:20191110
DTSTAMP:20260421T190322
CREATED:20190305T113118Z
LAST-MODIFIED:20190305T113706Z
UID:2881-1554076800-1573343999@www.prevenciocolonbcn.org
SUMMARY:Inici del Programa a la Verneda Nord (5a ronda)
DESCRIPTION:Aquest mes d’abril s’inicia l’activitat del Programa a la Verneda Nord (10H). \nDes de principis del mes d’abril de 2019 i fins a principis d’octubre de 2019 es convida a tots els homes i dones de 50 a 69 anys que visquin a la Verneda Nord. Rebran una carta per a participar en el Programa. \nJuntament amb la carta d’invitació s’envia el llistat de farmàcies adherides al Programa en aquest barri\, a les quals es pot anar a recollir a la farmàcia més propera la prova i les instruccions (a sota trobareu l’enllaç al llistat en format PDF). La prova es realitza a casa de forma còmoda i senzilla i cal retornar-la a la farmàcia. \nUna vegada analitzades les proves es comunicaran els resultats mitjançant carta o trucada telefònica. \nPer la vostra salut\, participeu-hi! \n\nLlistat de les farmàcies de la Verneda Nord\n\n
URL:https://www.prevenciocolonbcn.org/ca/event/inici-del-programa-a-la-verneda-nord-5a-ronda/
END:VEVENT
END:VCALENDAR