BEGIN:VCALENDAR
VERSION:2.0
PRODID:-//Programa de Detecció de Càncer de Còlon i Recte de Barcelona - ECPv4.6.8//NONSGML v1.0//EN
CALSCALE:GREGORIAN
METHOD:PUBLISH
X-WR-CALNAME:Programa de Detecció de Càncer de Còlon i Recte de Barcelona
X-ORIGINAL-URL:https://www.prevenciocolonbcn.org/ca
X-WR-CALDESC:Events for Programa de Detecció de Càncer de Còlon i Recte de Barcelona
BEGIN:VEVENT
DTSTART;VALUE=DATE:20190208
DTEND;VALUE=DATE:20190726
DTSTAMP:20260421T221159
CREATED:20190205T092610Z
LAST-MODIFIED:20190305T111537Z
UID:2870-1549584000-1564099199@www.prevenciocolonbcn.org
SUMMARY:Inici del Programa a la Verneda Sud (5a ronda)
DESCRIPTION:Aquest mes de febrer s’inicia l’activitat del Programa a la Verneda Sud (10J). \nDes de principis del mes de febrer de 2019 i fins a finals de juliol de 2019 es convida a tots els homes i dones de 50 a 69 anys que visquin a la Verneda. Rebran una carta per a participar en el Programa. \nJuntament amb la carta d’invitació s’envia el llistat de farmàcies adherides al Programa en aquest barri\, a les quals es pot anar a recollir a la farmàcia més propera la prova i les instruccions (a sota trobareu l’enllaç al llistat en format PDF). La prova es realitza a casa de forma còmoda i senzilla i cal retornar-la a la farmàcia. \nUna vegada analitzades les proves es comunicaran els resultats mitjançant carta o trucada telefònica. \nPer la vostra salut\, participeu-hi! \n\nLlistat d eles farmàcies de la Verneda Sud\n\n
URL:https://www.prevenciocolonbcn.org/ca/event/inici-del-programa-a-la-verneda-5a-ronda/
END:VEVENT
END:VCALENDAR