BEGIN:VCALENDAR
VERSION:2.0
PRODID:-//Programa de Detecció de Càncer de Còlon i Recte de Barcelona - ECPv4.6.8//NONSGML v1.0//EN
CALSCALE:GREGORIAN
METHOD:PUBLISH
X-WR-CALNAME:Programa de Detecció de Càncer de Còlon i Recte de Barcelona
X-ORIGINAL-URL:https://www.prevenciocolonbcn.org/ca
X-WR-CALDESC:Events for Programa de Detecció de Càncer de Còlon i Recte de Barcelona
BEGIN:VEVENT
DTSTART;VALUE=DATE:20181008
DTEND;VALUE=DATE:20190501
DTSTAMP:20260421T141858
CREATED:20180919T110443Z
LAST-MODIFIED:20180919T110516Z
UID:2614-1538956800-1556668799@www.prevenciocolonbcn.org
SUMMARY:Inici del Programa a La Sagrera (2a ronda)
DESCRIPTION:Aquest mes d’ocubre s’inicia l’activitat del Programa a La Sagrera (9A). \nDes de principis del mes d’octubre de 2018 i fins a finals d’abril  de 2019 es convida a tots els homes i dones de 50 a 69 anys que visquin a La Sagrera. Rebran una carta per a participar en el Programa. \nJuntament amb la carta d’invitació s’envia el llistat de farmàcies adherides al Programa en aquest barri\, a les quals es pot anar a recollir a la farmàcia més propera la prova i les instruccions (a sota trobareu l’enllaç al llistat en format PDF). La prova es realitza a casa de forma còmoda i senzilla i cal retornar-la a la farmàcia. \nUna vegada analitzades les proves es comunicaran els resultats mitjançant carta o trucada telefònica. \nPer la vostra salut\, participeu-hi! \n\nLlistat de les farmàcies de La Sagrera\n\n
URL:https://www.prevenciocolonbcn.org/ca/event/inici-del-programa-a-la-sagrera-2a-ronda/
END:VEVENT
END:VCALENDAR