BEGIN:VCALENDAR
VERSION:2.0
PRODID:-//Programa de Detecció de Càncer de Còlon i Recte de Barcelona - ECPv4.6.8//NONSGML v1.0//EN
CALSCALE:GREGORIAN
METHOD:PUBLISH
X-WR-CALNAME:Programa de Detecció de Càncer de Còlon i Recte de Barcelona
X-ORIGINAL-URL:https://www.prevenciocolonbcn.org/ca
X-WR-CALDESC:Events for Programa de Detecció de Càncer de Còlon i Recte de Barcelona
BEGIN:VEVENT
DTSTART;VALUE=DATE:20201118
DTEND;VALUE=DATE:20210413
DTSTAMP:20260421T221246
CREATED:20201116T131214Z
LAST-MODIFIED:20201216T105751Z
UID:3500-1605657600-1618271999@www.prevenciocolonbcn.org
SUMMARY:Inici del Programa a La Monumental (3a ronda)
DESCRIPTION:Aquest mes de novembre s’inicia l’activitat del Programa a La Monumental (2J). \nDes de mitjans del mes de novembre de 2020 i fins a fins a mitjans de març de 2021 es convida a tots els homes i dones de 50 a 69 anys que visquin a La Monumental. Rebran una carta per a participar en el Programa. \nJuntament amb la carta d’invitació s’envia el llistat de farmàcies adherides al Programa en aquest barri\, a les quals es pot anar a recollir a la farmàcia més propera la prova i les instruccions (a sota trobareu l’enllaç al llistat en format PDF). La prova es realitza a casa de forma còmoda i senzilla i cal retornar-la a la farmàcia. \nUna vegada analitzades les proves es comunicaran els resultats mitjançant carta o trucada telefònica. \nPer la vostra salut\, participeu-hi! \n\nLlistat de les farmàcies de La Monumental\n\n
URL:https://www.prevenciocolonbcn.org/ca/event/inici-del-programa-a-la-monumental-3a-ronda/
END:VEVENT
END:VCALENDAR