BEGIN:VCALENDAR
VERSION:2.0
PRODID:-//Programa de Detecció de Càncer de Còlon i Recte de Barcelona - ECPv4.6.8//NONSGML v1.0//EN
CALSCALE:GREGORIAN
METHOD:PUBLISH
X-WR-CALNAME:Programa de Detecció de Càncer de Còlon i Recte de Barcelona
X-ORIGINAL-URL:https://www.prevenciocolonbcn.org/ca
X-WR-CALDESC:Events for Programa de Detecció de Càncer de Còlon i Recte de Barcelona
BEGIN:VEVENT
DTSTART;VALUE=DATE:20170619
DTEND;VALUE=DATE:20180124
DTSTAMP:20260422T144433
CREATED:20171214T133905Z
LAST-MODIFIED:20171219T140627Z
UID:1789-1497830400-1516751999@www.prevenciocolonbcn.org
SUMMARY:Inici del programa a La Marina (4a ronda)
DESCRIPTION:Aquest mes de juny s’inicia l’activitat del Programa\, en 4ª Ronda\, en l’ABS 3H “La Marina” \nDes de meitat de juny de 2017 es convida a tots els homes i dones de 50 a 69 anys que viuen en aquesta zona a participar en el Programa. \nS’enviarà una carta d’invitació juntament amb el llistat de farmàcies adherides al Programa en aquesta àrea (s’adjunta llistat) per anar a recollir a la farmàcia més propera el kit i les instruccions. La prova es realitza a casa de forma còmoda i senzilla i caldrà retornar-la a la farmàcia. \nUna vegada analitzades les mostres es comunicaran els resultats mitjançant carta o trucada telefònica. \nUna gran oportunitat de prevenir i tenir cura de la seva salut! \n\nListado de las farmacias de La Marina\n\n
URL:https://www.prevenciocolonbcn.org/ca/event/inici-del-programa-a-la-marina-4a-ronda/
END:VEVENT
END:VCALENDAR