BEGIN:VCALENDAR
VERSION:2.0
PRODID:-//Programa de Detecció de Càncer de Còlon i Recte de Barcelona - ECPv4.6.8//NONSGML v1.0//EN
CALSCALE:GREGORIAN
METHOD:PUBLISH
X-WR-CALNAME:Programa de Detecció de Càncer de Còlon i Recte de Barcelona
X-ORIGINAL-URL:https://www.prevenciocolonbcn.org/ca
X-WR-CALDESC:Events for Programa de Detecció de Càncer de Còlon i Recte de Barcelona
BEGIN:VEVENT
DTSTART;VALUE=DATE:20180103
DTEND;VALUE=DATE:20180529
DTSTAMP:20260422T110814
CREATED:20180117T145111Z
LAST-MODIFIED:20180308T122925Z
UID:1950-1514937600-1527551999@www.prevenciocolonbcn.org
SUMMARY:Inici del Programa a La Barceloneta (5a ronda)
DESCRIPTION:Aquest mes de gener s’inicia l’activitat del Programa a La Barceloneta (1A). \nDes de princiois del mes de gener i fins a finals de maig de 2018 es convida a tots els homes i dones de 50 a 69 anys que visquin a La Barceloneta. Rebran una carta per a participar en el Programa. \nJuntament amb la carta d’invitació s’envia el llistat de farmàcies adherides al Programa en aquest barri\, a les quals es pot anar a recollir a la farmàcia més propera la prova i les instruccions (a sota trobareu l’enllaç al llistat en format PDF). La prova es realitza a casa de forma còmoda i senzilla i cal retornar-la a la farmàcia. \nUna vegada analitzades les proves es comunicaran els resultats mitjançant carta o trucada telefònica. \nPer la vostra salut\, participeu-hi! \n\nLlistat de les farmàcies de La Barceloneta\n\n
URL:https://www.prevenciocolonbcn.org/ca/event/inici-del-programa-a-la-barceloneta-5a-ronda/
END:VEVENT
END:VCALENDAR