BEGIN:VCALENDAR
VERSION:2.0
PRODID:-//Programa de Detecció de Càncer de Còlon i Recte de Barcelona - ECPv4.6.8//NONSGML v1.0//EN
CALSCALE:GREGORIAN
METHOD:PUBLISH
X-WR-CALNAME:Programa de Detecció de Càncer de Còlon i Recte de Barcelona
X-ORIGINAL-URL:https://www.prevenciocolonbcn.org/ca
X-WR-CALDESC:Events for Programa de Detecció de Càncer de Còlon i Recte de Barcelona
BEGIN:VEVENT
DTSTART;VALUE=DATE:20190506
DTEND;VALUE=DATE:20191030
DTSTAMP:20260421T201140
CREATED:20190506T120311Z
LAST-MODIFIED:20190910T122332Z
UID:2995-1557100800-1572393599@www.prevenciocolonbcn.org
SUMMARY:Inici del Programa a Horta-Lisboa (2a ronda)
DESCRIPTION:A principis del mes maig s’inicia l’activitat del Programa a Horta-Lisboa (7D). \nDes de principis de maig fins a finals de octubre de 2019 es convida a tots els homes i dones de 50 a 69 anys que visquin a Horta-Lisboa. Rebran una carta per a participar en el Programa. \nJuntament amb la carta d’invitació s’envia el llistat de farmàcies adherides al Programa en aquest barri\, a les quals es pot anar a recollir a la farmàcia més propera la prova i les instruccions (a sota trobareu l’enllaç al llistat en format PDF). La prova es realitza a casa de forma còmoda i senzilla i cal retornar-la a la farmàcia. \nUna vegada analitzades les proves es comunicaran els resultats mitjançant carta o trucada telefònica. \nPer la vostra salut\, participeu-hi! \n\nLlistat de les farmàcies de Horta-Lisboa (7D)\n\n
URL:https://www.prevenciocolonbcn.org/ca/event/inici-del-programa-a-horta-lisboa-7d-2a-ronda/
END:VEVENT
END:VCALENDAR