BEGIN:VCALENDAR
VERSION:2.0
PRODID:-//Programa de Detecció de Càncer de Còlon i Recte de Barcelona - ECPv4.6.8//NONSGML v1.0//EN
CALSCALE:GREGORIAN
METHOD:PUBLISH
X-WR-CALNAME:Programa de Detecció de Càncer de Còlon i Recte de Barcelona
X-ORIGINAL-URL:https://www.prevenciocolonbcn.org/ca
X-WR-CALDESC:Events for Programa de Detecció de Càncer de Còlon i Recte de Barcelona
BEGIN:VEVENT
DTSTART;VALUE=DATE:20190401
DTEND;VALUE=DATE:20190921
DTSTAMP:20260421T154858
CREATED:20190506T113237Z
LAST-MODIFIED:20190506T120706Z
UID:2992-1554076800-1569023999@www.prevenciocolonbcn.org
SUMMARY:Inici del Programa a Horta-Lisboa (7F- 2a ronda)
DESCRIPTION:A principis del mes d’abril s’inicia l’activitat del Programa a Horta-Lisboa (7F). \nDes de principis d’abril i fins a meitat setembre de 2019 es convida a tots els homes i dones de 50 a 69 anys que visquin a Horta-Lisboa. Rebran una carta per a participar en el Programa. \nJuntament amb la carta d’invitació s’envia el llistat de farmàcies adherides al Programa en aquest barri\, a les quals es pot anar a recollir a la farmàcia més propera la prova i les instruccions (a sota trobareu l’enllaç al llistat en format PDF). La prova es realitza a casa de forma còmoda i senzilla i cal retornar-la a la farmàcia. \nUna vegada analitzades les proves es comunicaran els resultats mitjançant carta o trucada telefònica. \nPer la vostra salut\, participeu-hi! \n\nLlistat de les farmàcies de Horta-Lisboa (7F)\n\n
URL:https://www.prevenciocolonbcn.org/ca/event/inici-del-programa-a-horta-lisboa-2a-ronda/
END:VEVENT
END:VCALENDAR