BEGIN:VCALENDAR
VERSION:2.0
PRODID:-//Programa de Detecció de Càncer de Còlon i Recte de Barcelona - ECPv4.6.8//NONSGML v1.0//EN
CALSCALE:GREGORIAN
METHOD:PUBLISH
X-WR-CALNAME:Programa de Detecció de Càncer de Còlon i Recte de Barcelona
X-ORIGINAL-URL:https://www.prevenciocolonbcn.org/ca
X-WR-CALDESC:Events for Programa de Detecció de Càncer de Còlon i Recte de Barcelona
BEGIN:VEVENT
DTSTART;VALUE=DATE:20190913
DTEND;VALUE=DATE:20200207
DTSTAMP:20260422T012112
CREATED:20190913T114956Z
LAST-MODIFIED:20190930T132645Z
UID:3154-1568332800-1581033599@www.prevenciocolonbcn.org
SUMMARY:Inici del Programa a Gòtic (5a ronda)
DESCRIPTION:Aquest mes de setembre s’inicia l’activitat del Programa a Gòtic (1C). \nDes de mitjans del mes de setembre de 2019 i fins a principis de febrer de 2020 es convida a tots els homes i dones de 50 a 69 anys que visquin a l’àrea de Gòtic. Rebran una carta per a participar en el Programa. \nJuntament amb la carta d’invitació s’envia el llistat de farmàcies adherides al Programa en aquest barri\, a les quals es pot anar a recollir a la farmàcia més propera la prova i les instruccions (a sota trobareu l’enllaç al llistat en format PDF). La prova es realitza a casa de forma còmoda i senzilla i cal retornar-la a la farmàcia. \nUna vegada analitzades les proves es comunicaran els resultats mitjançant carta o trucada telefònica. \nPer la vostra salut\, participeu-hi! \n\nLlistat de les farmàcies de Gòtic\n\n
URL:https://www.prevenciocolonbcn.org/ca/event/inici-del-programa-a-gotic-5a-ronda/
END:VEVENT
END:VCALENDAR