BEGIN:VCALENDAR
VERSION:2.0
PRODID:-//Programa de Detecció de Càncer de Còlon i Recte de Barcelona - ECPv4.6.8//NONSGML v1.0//EN
CALSCALE:GREGORIAN
METHOD:PUBLISH
X-WR-CALNAME:Programa de Detecció de Càncer de Còlon i Recte de Barcelona
X-ORIGINAL-URL:https://www.prevenciocolonbcn.org/ca
X-WR-CALDESC:Events for Programa de Detecció de Càncer de Còlon i Recte de Barcelona
BEGIN:VEVENT
DTSTART;VALUE=DATE:20210118
DTEND;VALUE=DATE:20210705
DTSTAMP:20260421T185143
CREATED:20210119T103521Z
LAST-MODIFIED:20210119T103521Z
UID:3552-1610928000-1625443199@www.prevenciocolonbcn.org
SUMMARY:Inici del Programa a Cotxeres (3a ronda)
DESCRIPTION:Aquest mes de gener de 2021 s’inicia l’activitat del Programa a Cotxeres (ABS 8J). \nDes del mes de gener i fins a principis del mes de juliol de 2021 es convida a tots els homes i dones de 50 a 69 anys que visquin al barri de Cotxeres (Districte de Nou Barris) de Barcelona. Rebran una carta per a participar en el Programa. \nJuntament amb la carta d’invitació s’envia el llistat de farmàcies adherides al Programa en aquest barri\, a les quals es pot anar a recollir a la farmàcia més propera la prova i les instruccions (a sota trobareu l’enllaç al llistat en format PDF). La prova es realitza a casa de forma còmoda i senzilla i cal retornar-la a la farmàcia. \nUna vegada analitzades les proves es comunicaran els resultats mitjançant carta o trucada telefònica. \nPer la vostra salut\, participeu-hi! \n• Llistat de farmàcies Cotxeres ABS 8J \n
URL:https://www.prevenciocolonbcn.org/ca/event/inici-del-programa-a-cotxeres-3a-ronda/
END:VEVENT
END:VCALENDAR