BEGIN:VCALENDAR
VERSION:2.0
PRODID:-//Programa de Detecció de Càncer de Còlon i Recte de Barcelona - ECPv4.6.8//NONSGML v1.0//EN
CALSCALE:GREGORIAN
METHOD:PUBLISH
X-WR-CALNAME:Programa de Detecció de Càncer de Còlon i Recte de Barcelona
X-ORIGINAL-URL:https://www.prevenciocolonbcn.org/ca
X-WR-CALDESC:Events for Programa de Detecció de Càncer de Còlon i Recte de Barcelona
BEGIN:VEVENT
DTSTART;VALUE=DATE:20200107
DTEND;VALUE=DATE:20201101
DTSTAMP:20260421T171644
CREATED:20200120T122657Z
LAST-MODIFIED:20201022T120906Z
UID:3264-1578355200-1604188799@www.prevenciocolonbcn.org
SUMMARY:Inici del Programa a Ciutat Meridiana (3a ronda)
DESCRIPTION:A principis de gener de 2020 s’inicia l’activitat del Programa a Ciutat Meridiana (8H). \nDes de principis de gener i fins a finals del mes d’octubre de 2020 es convida tots els homes i dones de 50 a 69 anys que visquin a Ciutat Meridiana. Rebran una carta per participar en el Programa. \nJuntament amb la carta d’invitació s’envia el llistat de farmàcies adherides al Programa en aquest barri\, a les quals es pot anar a recollir a la farmàcia més propera la prova i les instruccions (a sota trobareu l’enllaç al llistat en format PDF). La prova es realitza a casa de forma còmoda i senzilla i cal retornar-la a la farmàcia. \nUna vegada analitzades les proves es comunicaran els resultats mitjançant carta o trucada telefònica. \nPer la vostra salut\, participeu-hi! \n\nLlistat de farmàcies Ciutat Meridiana 2020 (8H)\n\n
URL:https://www.prevenciocolonbcn.org/ca/event/inici-del-programa-a-ciutat-meridiana-3a-ronda/
END:VEVENT
END:VCALENDAR