BEGIN:VCALENDAR
VERSION:2.0
PRODID:-//Programa de Detecció de Càncer de Còlon i Recte de Barcelona - ECPv4.6.8//NONSGML v1.0//EN
CALSCALE:GREGORIAN
METHOD:PUBLISH
X-WR-CALNAME:Programa de Detecció de Càncer de Còlon i Recte de Barcelona
X-ORIGINAL-URL:https://www.prevenciocolonbcn.org/ca
X-WR-CALDESC:Events for Programa de Detecció de Càncer de Còlon i Recte de Barcelona
BEGIN:VEVENT
DTSTART;VALUE=DATE:20181008
DTEND;VALUE=DATE:20190329
DTSTAMP:20260421T124802
CREATED:20181126T112720Z
LAST-MODIFIED:20181126T132618Z
UID:2799-1538956800-1553817599@www.prevenciocolonbcn.org
SUMMARY:Inici del Programa a Casernes (2a ronda)
DESCRIPTION:Aquest mes d’octubre s’inicia l’activitat del Programa a Casernes (9I). \nDes d’octubre i fins a finals de març de 2019 es convida a tots els homes i dones de 50 a 69 anys que visquin a Casernes. Rebran una carta per a participar en el Programa. \nJuntament amb la carta d’invitació s’envia el llistat de farmàcies adherides al Programa en aquest barri\, a les quals es pot anar a recollir a la farmàcia més propera la prova i les instruccions (a sota trobareu l’enllaç al llistat en format PDF). La prova es realitza a casa de forma còmoda i senzilla i cal retornar-la a la farmàcia. \nUna vegada analitzades les proves es comunicaran els resultats mitjançant carta o trucada telefònica. \nPer la vostra salut\, participeu-hi! \n• Llistat de les farmàcies Casernes \n
URL:https://www.prevenciocolonbcn.org/ca/event/inici-del-programa-a-casernes-2a-ronda/
END:VEVENT
END:VCALENDAR