BEGIN:VCALENDAR
VERSION:2.0
PRODID:-//Programa de Detecció de Càncer de Còlon i Recte de Barcelona - ECPv4.6.8//NONSGML v1.0//EN
CALSCALE:GREGORIAN
METHOD:PUBLISH
X-WR-CALNAME:Programa de Detecció de Càncer de Còlon i Recte de Barcelona
X-ORIGINAL-URL:https://www.prevenciocolonbcn.org/ca
X-WR-CALDESC:Events for Programa de Detecció de Càncer de Còlon i Recte de Barcelona
BEGIN:VEVENT
DTSTART;VALUE=DATE:20190712
DTEND;VALUE=DATE:20200117
DTSTAMP:20260422T060506
CREATED:20190702T094500Z
LAST-MODIFIED:20190702T094500Z
UID:3094-1562889600-1579219199@www.prevenciocolonbcn.org
SUMMARY:Inici del Programa a Casc Antic (5a ronda)
DESCRIPTION:Aquest mes de juliol s’inicia l’activitat del Programa a Casc Antic (1B). \nDes de mitjans del mes de juliol de 2019 i fins a mitjans de gener de 2020 es convida a tots els homes i dones de 50 a 69 anys que visquin a Casc Antic. Rebran una carta per a participar en el Programa. \nJuntament amb la carta d’invitació s’envia el llistat de farmàcies adherides al Programa en aquest barri\, a les quals es pot anar a recollir a la farmàcia més propera la prova i les instruccions (a sota trobareu l’enllaç al llistat en format PDF). La prova es realitza a casa de forma còmoda i senzilla i cal retornar-la a la farmàcia. \nUna vegada analitzades les proves es comunicaran els resultats mitjançant carta o trucada telefònica. \nPer la vostra salut\, participeu-hi! \n\nLlistat de les farmàcies de Casc Antic\n\n
URL:https://www.prevenciocolonbcn.org/ca/event/inici-del-programa-a-casc-antic-5a-ronda/
END:VEVENT
END:VCALENDAR