BEGIN:VCALENDAR
VERSION:2.0
PRODID:-//Programa de Detecció de Càncer de Còlon i Recte de Barcelona - ECPv4.6.8//NONSGML v1.0//EN
CALSCALE:GREGORIAN
METHOD:PUBLISH
X-WR-CALNAME:Programa de Detecció de Càncer de Còlon i Recte de Barcelona
X-ORIGINAL-URL:https://www.prevenciocolonbcn.org/ca
X-WR-CALDESC:Events for Programa de Detecció de Càncer de Còlon i Recte de Barcelona
BEGIN:VEVENT
DTSTART;VALUE=DATE:20171211
DTEND;VALUE=DATE:20180511
DTSTAMP:20260422T135810
CREATED:20180116T134252Z
LAST-MODIFIED:20180214T115042Z
UID:1939-1512950400-1525996799@www.prevenciocolonbcn.org
SUMMARY:Inici del Programa a Ciutat Meridiana (2a ronda)
DESCRIPTION:Aquest mes de desembre s’inicia l’activitat del Programa a Ciutat Meridiana (8H). \nDes de mitjans del mes de desembre de 2017 i fins a mitjans de maig de 2018 es convida a tots els homes i dones de 50 a 69 anys que visquin a Ciutat Meridiana. Rebran una carta per a participar en el Programa. \nJuntament amb la carta d’invitació s’envia el llistat de farmàcies adherides al Programa en aquest barri\, a les quals es pot anar a recollir a la farmàcia més propera la prova i les instruccions (a sota trobareu l’enllaç al llistat en format PDF). La prova es realitza a casa de forma còmoda i senzilla i cal retornar-la a la farmàcia. \nUna vegada analitzades les proves es comunicaran els resultats mitjançant carta o trucada telefònica. \nPer la vostra salut\, participeu-hi! \n\nLlistat de les farmàcies de Ciutat Meridiana\n\n
URL:https://www.prevenciocolonbcn.org/ca/event/espanol-inici-del-programa-a-ciutat-meridiana-2a-ronda/
END:VEVENT
END:VCALENDAR